BEGIN:VCALENDAR
VERSION:2.0
PRODID:SchoolNow
CALSCALE:GREGORIAN
BEGIN:VEVENT
UID:d1942612-f39f-11ea-9343-126c26c22185
DTSTAMP:20210908T135409Z
SUMMARY:CDD Board Meeting - Sept. 13\, 2021
LOCATION:Venetian River Club\, 502 Veneto Boulevard\, North Venice\, Florid
 a 34275
URL;VALUE=URI:https://www.venetiancdd.org/calendar/2345461/cdd-board-meetin
 g-sept-13-2021
DTSTART:20210913T133000Z
DTEND:20210913T143000Z
ATTACH;FILENAME=;FMTTYPE=application/octet-stream:
END:VEVENT
END:VCALENDAR
