BEGIN:VCALENDAR
VERSION:2.0
PRODID:SchoolNow
CALSCALE:GREGORIAN
BEGIN:VEVENT
UID:f3cfd880-f77c-11ea-ab10-12674f1a453f
DTSTAMP:20210519T154133Z
SUMMARY:Facilities Advisory Committee Meeting - Mar. 1\, 2021
LOCATION:Venetian River Club\, 502 Veneto Boulevard\, North Venice\, Florid
 a 34275
URL;VALUE=URI:https://www.venetiancdd.org/calendar/2355945/facilities-advis
 ory-committee-meeting-mar-1-2021
DTSTART:20210301T190000Z
DTEND:20210301T200000Z
END:VEVENT
END:VCALENDAR
