BEGIN:VCALENDAR
VERSION:2.0
PRODID:SchoolNow
CALSCALE:GREGORIAN
BEGIN:VEVENT
UID:f020ff74-f77d-11ea-913a-1204b0e56dd3
DTSTAMP:20210519T153444Z
SUMMARY:Facilities Advisory Committee Meeting - Sept. 2021
LOCATION:Venetian River Club\, 502 Veneto Boulevard\, North Venice\, Florid
 a 34275
URL;VALUE=URI:https://www.venetiancdd.org/calendar/2355952/facilities-advis
 ory-committee-meeting-sept-2021
DTSTART:20210907T180000Z
DTEND:20210907T190000Z
END:VEVENT
END:VCALENDAR
