BEGIN:VCALENDAR
VERSION:2.0
PRODID:SchoolNow
CALSCALE:GREGORIAN
BEGIN:VEVENT
UID:3133e85e-f77f-11ea-bb28-0aa8edbb0b13
DTSTAMP:20200915T181344Z
SUMMARY:Landscaping Advisory Committee Meeting
LOCATION:Venetian River Club\, 502 Veneto Boulevard\, North Venice\, Florid
 a 34275
URL;VALUE=URI:https://www.venetiancdd.org/calendar/2355966/landscaping-advi
 sory-committee-meeting
DTSTART:20210906T150000Z
DTEND:20210906T160000Z
END:VEVENT
END:VCALENDAR
