BEGIN:VCALENDAR
VERSION:2.0
PRODID:SchoolNow
CALSCALE:GREGORIAN
BEGIN:VEVENT
UID:15d9f622-f782-11ea-8106-0ae32ffa6fed
DTSTAMP:20200915T183427Z
SUMMARY:Social and Dining Advisory Committee Meeting
LOCATION:Venetian River Club\, 502 Veneto Boulevard\, North Venice\, Florid
 a 34275
URL;VALUE=URI:https://www.venetiancdd.org/calendar/2356132/social-and-dinin
 g-advisory-committee-meeting
DTSTART:20210908T140000Z
DTEND:20210908T150000Z
END:VEVENT
END:VCALENDAR
