BEGIN:VCALENDAR
VERSION:2.0
PRODID:SchoolNow
CALSCALE:GREGORIAN
BEGIN:VEVENT
UID:29f3b17a-6d7a-11eb-bc24-0edd61e573d3
DTSTAMP:20210907T184202Z
SUMMARY:Racquet Sports Advisory Committee Meeting - Sept. 13\, 2021 - Cance
 lled
LOCATION:Venetian River Club\, 502 Veneto Boulevard\, North Venice\, Florid
 a 34275
URL;VALUE=URI:https://www.venetiancdd.org/calendar/2539988/racquet-sports-a
 dvisory-committee-meeting-sept-13-2021
DTSTART:20210913T180000Z
DTEND:20210913T190000Z
END:VEVENT
END:VCALENDAR
