BEGIN:VCALENDAR
VERSION:2.0
PRODID:SchoolNow
CALSCALE:GREGORIAN
BEGIN:VEVENT
UID:e997739e-7555-11eb-8ba1-0e34a337b575
DTSTAMP:20210222T213541Z
SUMMARY:Fitness & Pool Advisory Committee Meeting
LOCATION:Venetian River Club\, 502 Veneto Boulevard\, North Venice\, Florid
 a 34275
URL;VALUE=URI:https://www.venetiancdd.org/calendar/2544837/recreational-adv
 isory-committee-meeting-clone-clone-clone-clone-clone-clone-clone-clone-cl
 one
DTSTART:20210915T140000Z
DTEND:20210915T150000Z
END:VEVENT
END:VCALENDAR
