BEGIN:VCALENDAR
VERSION:2.0
PRODID:SchoolNow
CALSCALE:GREGORIAN
BEGIN:VEVENT
UID:39eea152-7a90-11eb-8fda-0a7f7ccaaf69
DTSTAMP:20210318T144603Z
SUMMARY:Reserve Advisory Committee Meeting - Sept. 2021
LOCATION:Venetian River Club\, 502 Veneto Boulevard\, North Venice\, Florid
 a 34275
URL;VALUE=URI:https://www.venetiancdd.org/calendar/2549171/reserve-advisory
 -committee-meeting-sept-2021
DTSTART:20210920T180000Z
DTEND:20210920T190000Z
END:VEVENT
END:VCALENDAR
