BEGIN:VCALENDAR
VERSION:2.0
PRODID:SchoolNow
CALSCALE:GREGORIAN
BEGIN:VEVENT
UID:c3aa065c-10e5-11ec-8b77-0ec123eaf34f
DTSTAMP:20210908T204555Z
SUMMARY:Racquet Sports Advisory Committee Meeting - Sept. 27\, 2021
LOCATION:Venetian River Club\, 502 Veneto Boulevard\, North Venice\, Florid
 a 34275
URL;VALUE=URI:https://www.venetiancdd.org/calendar/2718384/racquet-sports-a
 dvisory-committee-meeting-sept-13-2021-clone
DTSTART:20210927T183000Z
DTEND:20210927T193000Z
END:VEVENT
END:VCALENDAR
