BEGIN:VCALENDAR
VERSION:2.0
PRODID:SchoolNow
CALSCALE:GREGORIAN
BEGIN:VEVENT
UID:43d6fa56-712d-11ef-b4dd-0a58a9feac02
DTSTAMP:20240912T173429Z
SUMMARY:Facilities Advisory Committee Meeting - August 2025
LOCATION:Venetian River Club\, 502 Veneto Boulevard\, North Venice\, Florid
 a 34275
URL;VALUE=URI:https://www.venetiancdd.org/calendar/6588978/facilities-advis
 ory-committee-meeting-sept-2021-clone-clone-clone-clone-clone-clone-clone-
 clone-clone-clone-clone-clone-clone-clone-clone-clone-clone-clone-clone-cl
 one-clone-clone-clone-clone-clone-clone-clone-clone-clone-clone-clone-clon
 e-clone-clone-clo
DTSTART:20250805T190000Z
DTEND:20250805T200000Z
END:VEVENT
END:VCALENDAR
