BEGIN:VCALENDAR
VERSION:2.0
PRODID:SchoolNow
CALSCALE:GREGORIAN
BEGIN:VEVENT
UID:75412e9e-712e-11ef-b5c7-027c7a95ffdd
DTSTAMP:20250619T130214Z
SUMMARY:Fitness & Pool Advisory Committee Meeting - July 2025 - Cancelled
LOCATION:Venetian River Club\, 502 Veneto Boulevard\, North Venice\, Florid
 a 34275
URL;VALUE=URI:https://www.venetiancdd.org/calendar/6588991/recreational-adv
 isory-committee-meeting-clone-clone-clone-clone-clone-clone-clone-clone-cl
 one-clone-clone-clone-clone-clone-clone-clone-clone-clone-clone-clone-clon
 e-clone-clone-clone-clone-clone-clone-clone-clone-clone-clone-clone-clone-
 clone-clone-clone
DTSTART:20250716T140000Z
DTEND:20250716T150000Z
END:VEVENT
END:VCALENDAR
