BEGIN:VCALENDAR
VERSION:2.0
PRODID:SchoolNow
CALSCALE:GREGORIAN
BEGIN:VEVENT
UID:8c651f36-712e-11ef-b7c8-0affdaaaea37
DTSTAMP:20240912T174340Z
SUMMARY:Fitness & Pool Advisory Committee Meeting - August 2025
LOCATION:Venetian River Club\, 502 Veneto Boulevard\, North Venice\, Florid
 a 34275
URL;VALUE=URI:https://www.venetiancdd.org/calendar/6588992/recreational-adv
 isory-committee-meeting-clone-clone-clone-clone-clone-clone-clone-clone-cl
 one-clone-clone-clone-clone-clone-clone-clone-clone-clone-clone-clone-clon
 e-clone-clone-clone-clone-clone-clone-clone-clone-clone-clone-clone-clone-
 clone-clone-clone
DTSTART:20250820T140000Z
DTEND:20250820T150000Z
END:VEVENT
END:VCALENDAR
