BEGIN:VCALENDAR
VERSION:2.0
PRODID:SchoolNow
CALSCALE:GREGORIAN
BEGIN:VEVENT
UID:2d94795e-7131-11ef-a97c-0263237086b5
DTSTAMP:20240912T180230Z
SUMMARY:Landscaping Advisory Committee Meeting - July 2025
LOCATION:Venetian River Club\, 502 Veneto Boulevard\, North Venice\, Florid
 a 34275
URL;VALUE=URI:https://www.venetiancdd.org/calendar/6589012/landscaping-advi
 sory-committee-meeting-clone-clone-clone-clone-clone-clone-clone-clone-clo
 ne-clone-clone-clone-clone-clone-clone-clone-clone-clone-clone-clone-clone
 -clone-clone-clone-clone-clone-clone-clone-clone-clone-clone-clone-clone-c
 lone-clone-clone-
DTSTART:20250721T130000Z
DTEND:20250721T140000Z
END:VEVENT
END:VCALENDAR
