BEGIN:VCALENDAR
VERSION:2.0
PRODID:SchoolNow
CALSCALE:GREGORIAN
BEGIN:VEVENT
UID:45113716-7131-11ef-a530-0e7de8be0623
DTSTAMP:20240912T180309Z
SUMMARY:Landscaping Advisory Committee Meeting - August 2025
LOCATION:Venetian River Club\, 502 Veneto Boulevard\, North Venice\, Florid
 a 34275
URL;VALUE=URI:https://www.venetiancdd.org/calendar/6589013/landscaping-advi
 sory-committee-meeting-clone-clone-clone-clone-clone-clone-clone-clone-clo
 ne-clone-clone-clone-clone-clone-clone-clone-clone-clone-clone-clone-clone
 -clone-clone-clone-clone-clone-clone-clone-clone-clone-clone-clone-clone-c
 lone-clone-clone-
DTSTART:20250818T130000Z
DTEND:20250818T140000Z
END:VEVENT
END:VCALENDAR
