BEGIN:VCALENDAR
VERSION:2.0
PRODID:SchoolNow
CALSCALE:GREGORIAN
BEGIN:VEVENT
UID:48a86ae6-7133-11ef-9a0d-028b56d159a1
DTSTAMP:20250603T134941Z
SUMMARY:Reserve Advisory Committee Meeting - July 2025 - Cancelled
LOCATION:Venetian River Club\, 502 Veneto Boulevard\, North Venice\, Florid
 a 34275
URL;VALUE=URI:https://www.venetiancdd.org/calendar/6589026/reserve-advisory
 -committee-meeting-sept-2021-clone-clone-clone-clone-clone-clone-clone-clo
 ne-clone-clone-clone-clone-clone-clone-clone-clone-clone-clone-clone-clone
 -clone-clone-clone-clone-clone-clone-clone-clone-clone-clone-clone-clone-c
 lone-clone-clone-
DTSTART:20250707T180000Z
DTEND:20250707T190000Z
END:VEVENT
END:VCALENDAR
