BEGIN:VCALENDAR
VERSION:2.0
PRODID:SchoolNow
CALSCALE:GREGORIAN
BEGIN:VEVENT
UID:9c439b02-7134-11ef-8376-0e03c1a7aec7
DTSTAMP:20240912T182704Z
SUMMARY:Social and Dining Advisory Committee Meeting - July 2025
LOCATION:Venetian River Club\, 502 Veneto Boulevard\, North Venice\, Florid
 a 34275
URL;VALUE=URI:https://www.venetiancdd.org/calendar/6589038/social-and-dinin
 g-advisory-committee-meeting-clone-clone-clone-clone-clone-clone-clone-clo
 ne-clone-clone-clone-clone-clone-clone-clone-clone-clone-clone-clone-clone
 -clone-clone-clone-clone-clone-clone-clone-clone-clone-clone-clone-clone-c
 lone-clone-clone-
DTSTART:20250709T140000Z
DTEND:20250709T150000Z
END:VEVENT
END:VCALENDAR
