BEGIN:VCALENDAR
VERSION:2.0
PRODID:SchoolNow
CALSCALE:GREGORIAN
BEGIN:VEVENT
UID:b2b58dfa-7134-11ef-bfd3-0a58a9feac02
DTSTAMP:20250807T161637Z
SUMMARY:Social and Dining Advisory Committee Meeting - August 2025
LOCATION:Venetian River Club\, 502 Veneto Boulevard\, North Venice\, Florid
 a 34275
URL;VALUE=URI:https://www.venetiancdd.org/calendar/6589039/social-and-dinin
 g-advisory-committee-meeting-clone-clone-clone-clone-clone-clone-clone-clo
 ne-clone-clone-clone-clone-clone-clone-clone-clone-clone-clone-clone-clone
 -clone-clone-clone-clone-clone-clone-clone-clone-clone-clone-clone-clone-c
 lone-clone-clone-
DTSTART:20250813T140000Z
DTEND:20250813T150000Z
END:VEVENT
END:VCALENDAR
