BEGIN:VCALENDAR
VERSION:2.0
PRODID:SchoolNow
CALSCALE:GREGORIAN
BEGIN:VEVENT
UID:7d01101a-7212-11ef-85bd-0e7de8be0623
DTSTAMP:20250617T150925Z
SUMMARY:Racquet Sports Advisory Committee Meeting - July 2025 - Rescheduled
LOCATION:Venetian River Club\, 502 Veneto Boulevard\, North Venice\, Florid
 a 34275
URL;VALUE=URI:https://www.venetiancdd.org/calendar/6597454/racquet-sports-a
 dvisory-committee-meeting-sept-13-2021-clone-clone-clone-clone-clone-clone
 -clone-clone-clone-clone-clone-clone-clone-clone-clone-clone-clone-clone-c
 lone-clone-clone-clone-clone-clone-clone-clone-clone-clone-clone-clone-clo
 ne-clone-clone-cl
DTSTART:20250707T180000Z
DTEND:20250707T190000Z
END:VEVENT
END:VCALENDAR
