BEGIN:VCALENDAR
VERSION:2.0
PRODID:SchoolNow
CALSCALE:GREGORIAN
BEGIN:VEVENT
UID:a25bf686-7212-11ef-b4db-0a58a9feac02
DTSTAMP:20240913T205623Z
SUMMARY:Racquet Sports Advisory Committee Meeting - August 2025
LOCATION:Venetian River Club\, 502 Veneto Boulevard\, North Venice\, Florid
 a 34275
URL;VALUE=URI:https://www.venetiancdd.org/calendar/6597455/racquet-sports-a
 dvisory-committee-meeting-sept-13-2021-clone-clone-clone-clone-clone-clone
 -clone-clone-clone-clone-clone-clone-clone-clone-clone-clone-clone-clone-c
 lone-clone-clone-clone-clone-clone-clone-clone-clone-clone-clone-clone-clo
 ne-clone-clone-cl
DTSTART:20250811T180000Z
DTEND:20250811T190000Z
END:VEVENT
END:VCALENDAR
