BEGIN:VCALENDAR
VERSION:2.0
PRODID:SchoolNow
CALSCALE:GREGORIAN
BEGIN:VEVENT
UID:6c8b250e-b0b5-11ef-b47a-0a58a9feac02
DTSTAMP:20250806T162222Z
SUMMARY:CDD Board Meeting - Aug. 11\, 2025
LOCATION:Venetian River Club\, 502 Veneto Boulevard\, North Venice\, Florid
 a 34275
URL;VALUE=URI:https://www.venetiancdd.org/calendar/7109159/cdd-board-meetin
 g-sept-27-2021-clone-clone-clone-clone-clone-clone-clone-clone-clone-clone
 -clone-clone-clone-clone-clone-clone-clone-clone-clone-clone-clone-clone-c
 lone-clone-clone-clone-clone-clone-clone-clone-clone-clone-clone-clone-clo
 ne-clone-clone-cl
DTSTART:20250811T133000Z
DTEND:20250811T143000Z
ATTACH;FILENAME=2025-08-11 - Venetian CDD - Revised Agenda - BOS.pdf;FMTTYP
 E=application/pdf:https://campussuite-storage.s3.amazonaws.com/prod/155889
 6/9e8bec5e-ea9b-11e9-a571-0a31933f87ea/2989355/81f22fb6-72e1-11f0-86d9-0af
 feaa60e11/file/2025-08-11 - Venetian CDD - Revised Agenda - BOS.pdf
END:VEVENT
END:VCALENDAR
