BEGIN:VCALENDAR
VERSION:2.0
PRODID:SchoolNow
CALSCALE:GREGORIAN
BEGIN:VEVENT
UID:7a78d968-b0b5-11ef-98b0-0a58a9feac02
DTSTAMP:20250722T172545Z
SUMMARY:CDD Board Meeting - Jul. 28\, 2025
LOCATION:Venetian River Club\, 502 Veneto Boulevard\, North Venice\, Florid
 a 34275
URL;VALUE=URI:https://www.venetiancdd.org/calendar/7109160/cdd-board-meetin
 g-sept-27-2021-clone-clone-clone-clone-clone-clone-clone-clone-clone-clone
 -clone-clone-clone-clone-clone-clone-clone-clone-clone-clone-clone-clone-c
 lone-clone-clone-clone-clone-clone-clone-clone-clone-clone-clone-clone-clo
 ne-clone-clone-cl
DTSTART:20250728T133000Z
DTEND:20250728T143000Z
ATTACH;FILENAME=2025-07-28 - Venetian CDD - Revised Agenda - BOS.pdf;FMTTYP
 E=application/pdf:https://campussuite-storage.s3.amazonaws.com/prod/155889
 6/9e8bec5e-ea9b-11e9-a571-0a31933f87ea/2984074/d2ca7fe6-6720-11f0-9391-0a5
 8a9feac02/file/2025-07-28 - Venetian CDD - Revised Agenda - BOS.pdf
END:VEVENT
END:VCALENDAR
