BEGIN:VCALENDAR
VERSION:2.0
PRODID:SchoolNow
CALSCALE:GREGORIAN
BEGIN:VEVENT
UID:8be12ec6-b0b5-11ef-b7e6-0a58a9feac02
DTSTAMP:20250819T150013Z
SUMMARY:CDD Board Meeting - Aug. 25\, 2025
LOCATION:Venetian River Club\, 502 Veneto Boulevard\, North Venice\, Florid
 a 34275
URL;VALUE=URI:https://www.venetiancdd.org/calendar/7109161/cdd-board-meetin
 g-sept-27-2021-clone-clone-clone-clone-clone-clone-clone-clone-clone-clone
 -clone-clone-clone-clone-clone-clone-clone-clone-clone-clone-clone-clone-c
 lone-clone-clone-clone-clone-clone-clone-clone-clone-clone-clone-clone-clo
 ne-clone-clone-cl
DTSTART:20250825T133000Z
DTEND:20250825T143000Z
ATTACH;FILENAME=2025-08-25 - Venetian CDD - Revised Agenda - BOS.pdf;FMTTYP
 E=application/pdf:https://campussuite-storage.s3.amazonaws.com/prod/155889
 6/9e8bec5e-ea9b-11e9-a571-0a31933f87ea/2994993/df3e7a56-7d0b-11f0-954b-0a5
 8a9feac02/file/2025-08-25 - Venetian CDD - Revised Agenda - BOS.pdf
END:VEVENT
END:VCALENDAR
