BEGIN:VCALENDAR
VERSION:2.0
PRODID:SchoolNow
CALSCALE:GREGORIAN
BEGIN:VEVENT
UID:492cb1ec-de80-11ef-a8df-0a58a9feac02
DTSTAMP:20250625T132724Z
SUMMARY:CDD Board Workshop - Jul. 14\, 2025 - New Location
LOCATION:Community Room of the Fire Station 53 located at 5300 E. Laurel Ro
 ad\, North Venice\, Florida 34275
URL;VALUE=URI:https://www.venetiancdd.org/calendar/7393842/cdd-board-meetin
 g-sept-27-2021-clone-clone-clone-clone-clone-clone-clone-clone-clone-clone
 -clone-clone-clone-clone-clone-clone-clone-clone-clone-clone-clone-clone-c
 lone-clone-clone-clone-clone-clone-clone-clone-clone-clone-clone-clone-clo
 ne-clone-clone-cl
DTSTART:20250714T123000Z
DTEND:20250714T133000Z
END:VEVENT
END:VCALENDAR
