BEGIN:VCALENDAR
VERSION:2.0
PRODID:SchoolNow
CALSCALE:GREGORIAN
BEGIN:VEVENT
UID:5d61eb82-de80-11ef-91d9-0a58a9feac02
DTSTAMP:20250129T203357Z
SUMMARY:CDD Board Workshop - Jul. 28\, 2025
LOCATION:Venetian River Club\, 502 Veneto Boulevard\, North Venice\, Florid
 a 34275
URL;VALUE=URI:https://www.venetiancdd.org/calendar/7393843/cdd-board-meetin
 g-sept-27-2021-clone-clone-clone-clone-clone-clone-clone-clone-clone-clone
 -clone-clone-clone-clone-clone-clone-clone-clone-clone-clone-clone-clone-c
 lone-clone-clone-clone-clone-clone-clone-clone-clone-clone-clone-clone-clo
 ne-clone-clone-cl
DTSTART:20250728T123000Z
DTEND:20250728T133000Z
END:VEVENT
END:VCALENDAR
