BEGIN:VCALENDAR
VERSION:2.0
PRODID:SchoolNow
CALSCALE:GREGORIAN
BEGIN:VEVENT
UID:7e139f6a-de80-11ef-a6ab-0afff9192821
DTSTAMP:20250129T203452Z
SUMMARY:CDD Board Workshop - Aug. 25\, 2025
LOCATION:Venetian River Club\, 502 Veneto Boulevard\, North Venice\, Florid
 a 34275
URL;VALUE=URI:https://www.venetiancdd.org/calendar/7393845/cdd-board-meetin
 g-sept-27-2021-clone-clone-clone-clone-clone-clone-clone-clone-clone-clone
 -clone-clone-clone-clone-clone-clone-clone-clone-clone-clone-clone-clone-c
 lone-clone-clone-clone-clone-clone-clone-clone-clone-clone-clone-clone-clo
 ne-clone-clone-cl
DTSTART:20250825T123000Z
DTEND:20250825T133000Z
END:VEVENT
END:VCALENDAR
