BEGIN:VCALENDAR
VERSION:2.0
PRODID:SchoolNow
CALSCALE:GREGORIAN
BEGIN:VEVENT
UID:2910e244-8352-11f0-9d55-0e8b14fcf377
DTSTAMP:20260302T205720Z
SUMMARY:CDD Board Meeting - March 9\, 2026
LOCATION:Venetian River Club\, 502 Veneto Boulevard\, North Venice\, Florid
 a 34275
URL;VALUE=URI:https://www.venetiancdd.org/calendar/8549928/cdd-board-meetin
 g-sept-27-2021-clone-clone-clone-clone-clone-clone-clone-clone-clone-clone
 -clone-clone-clone-clone-clone-clone-clone-clone-clone-clone-clone-clone-c
 lone-clone-clone-clone-clone-clone-clone-clone-clone-clone-clone-clone-clo
 ne-clone-clone-cl
DTSTART:20260309T133000Z
DTEND:20260309T143000Z
ATTACH;FILENAME=2026-03-09 - Venetian CDD - Agenda - BOS.pdf;FMTTYPE=applic
 ation/pdf:https://campussuite-storage.s3.amazonaws.com/prod/1558896/9e8bec
 5e-ea9b-11e9-a571-0a31933f87ea/3076157/5cf47646-167a-11f1-b43a-0a58a9feac0
 2/file/2026-03-09 - Venetian CDD - Agenda - BOS.pdf
END:VEVENT
END:VCALENDAR
