BEGIN:VCALENDAR
VERSION:2.0
PRODID:SchoolNow
CALSCALE:GREGORIAN
BEGIN:VEVENT
UID:846bec26-8355-11f0-83fc-029f65b6582b
DTSTAMP:20250827T145256Z
SUMMARY:Racquet Sports Advisory Committee Meeting - July 2026
LOCATION:Venetian River Club\, 502 Veneto Boulevard\, North Venice\, Florid
 a 34275
URL;VALUE=URI:https://www.venetiancdd.org/calendar/8549968/racquet-sports-a
 dvisory-committee-meeting-sept-13-2021-clone-clone-clone-clone-clone-clone
 -clone-clone-clone-clone-clone-clone-clone-clone-clone-clone-clone-clone-c
 lone-clone-clone-clone-clone-clone-clone-clone-clone-clone-clone-clone-clo
 ne-clone-clone-cl
DTSTART:20260713T180000Z
DTEND:20260713T190000Z
END:VEVENT
END:VCALENDAR
